BEGIN:VCALENDAR
VERSION:2.0
PRODID:-//Cambrils Cycling Paradise - ECPv6.15.20//NONSGML v1.0//EN
CALSCALE:GREGORIAN
METHOD:PUBLISH
X-WR-CALNAME:Cambrils Cycling Paradise
X-ORIGINAL-URL:https://cyclingcambrils.com/en/
X-WR-CALDESC:Events for Cambrils Cycling Paradise
REFRESH-INTERVAL;VALUE=DURATION:PT1H
X-Robots-Tag:noindex
X-PUBLISHED-TTL:PT1H
BEGIN:VTIMEZONE
TZID:UTC
BEGIN:STANDARD
TZOFFSETFROM:+0000
TZOFFSETTO:+0000
TZNAME:UTC
DTSTART:20240101T000000
END:STANDARD
END:VTIMEZONE
BEGIN:VEVENT
DTSTART;TZID=UTC:20250510T110000
DTEND;TZID=UTC:20250510T140000
DTSTAMP:20260424T035806
CREATED:20250502T114842Z
LAST-MODIFIED:20250502T114842Z
UID:14642-1746874800-1746885600@cyclingcambrils.com
SUMMARY:Children's painting workshop
DESCRIPTION:Painting workshop for the little ones led by the artist from Cambrils Nuri Mariné.
URL:https://cyclingcambrils.com/en/evento/childrens-painting-workshop/
CATEGORIES:Saturday
END:VEVENT
END:VCALENDAR