BEGIN:VCALENDAR
VERSION:2.0
PRODID:-//Cambrils Cycling Paradise - ECPv6.15.13.1//NONSGML v1.0//EN
CALSCALE:GREGORIAN
METHOD:PUBLISH
X-WR-CALNAME:Cambrils Cycling Paradise
X-ORIGINAL-URL:https://cyclingcambrils.com
X-WR-CALDESC:Eventos para Cambrils Cycling Paradise
REFRESH-INTERVAL;VALUE=DURATION:PT1H
X-Robots-Tag:noindex
X-PUBLISHED-TTL:PT1H
BEGIN:VTIMEZONE
TZID:UTC
BEGIN:STANDARD
TZOFFSETFROM:+0000
TZOFFSETTO:+0000
TZNAME:UTC
DTSTART:20250101T000000
END:STANDARD
END:VTIMEZONE
BEGIN:VEVENT
DTSTART;TZID=UTC:20260523T083000
DTEND;TZID=UTC:20260523T083000
DTSTAMP:20260419T115041
CREATED:20250320T144016Z
LAST-MODIFIED:20260310T172335Z
UID:14111-1779525000-1779525000@cyclingcambrils.com
SUMMARY:CAMBRILS BTT ORÍGENES
DESCRIPTION:CAMBRILS BTT ORÍGENS es una cita obligada por los amantes de la BTT de la Costa Daurada. La marcha-pedalada en BTT\, ebike o gravel\, plantea 4 recorridos por la comarca del Baix Camp pasando por las poblaciones de Cambrils\, Montbrió del Camp\, Riudecanyes\, Vilanova d’Escornalbou\, Duesaigües y la Argentera. Descubra el entorno de Cambrils mediante la opción de ciclismo que prefiere\, pasando por caminos y pistas con encanto\, bosques mediterráneos con magníficas vistas de la Costa Daurada\, y zonas de agricultura km0 de la gastronomía de Cambrils.   \nMás información e inscripciones
URL:https://cyclingcambrils.com/evento/cambribike-btt/
CATEGORIES:Sábado
ATTACH;FMTTYPE=image/jpeg:https://cyclingcambrils.com/wp-content/uploads/2025/03/0C2A6017-copy-1.jpg
END:VEVENT
BEGIN:VEVENT
DTSTART;TZID=UTC:20260523T090000
DTEND;TZID=UTC:20260523T090000
DTSTAMP:20260419T115041
CREATED:20250320T142559Z
LAST-MODIFIED:20260310T171435Z
UID:14068-1779526800-1779526800@cyclingcambrils.com
SUMMARY:4a KIDS CUP BTT
DESCRIPTION:Carrera federada de ciclismo de montaña BTT que se disputa en Cambrils en el calendario oficial. En las categorías de Prebenjamín\, Benjamín\, Principiante\, Alevines\, Infantiles en femenino y masculino.  \nInscripciones
URL:https://cyclingcambrils.com/evento/4a-kids-cup-tarragona-copa-tarragona-fcc/
CATEGORIES:Sábado
ATTACH;FMTTYPE=image/jpeg:https://cyclingcambrils.com/wp-content/uploads/2025/03/0C2A5383-copy-1.jpg
END:VEVENT
BEGIN:VEVENT
DTSTART;TZID=UTC:20260523T100000
DTEND;TZID=UTC:20260523T140000
DTSTAMP:20260419T115041
CREATED:20250320T144158Z
LAST-MODIFIED:20250413T092713Z
UID:14119-1779530400-1779544800@cyclingcambrils.com
SUMMARY:CIRCUITO DE HABILIDADES
DESCRIPTION:Actividad gratuita\, Actividad infantil\n En bicicleta de montaña para todas las edades: Giros\, obstáculos\, rampas\, zigzag\, troncos pequeños\, con la supervisión de un monitor experto en conducción de la escuela Bikepark Cambrils. Inscripciones: in-situ.
URL:https://cyclingcambrils.com/evento/circuito-de-habilidades-2/
CATEGORIES:Sábado
ATTACH;FMTTYPE=image/jpeg:https://cyclingcambrils.com/wp-content/uploads/2025/03/0C2A5530-copy-1.jpg
END:VEVENT
BEGIN:VEVENT
DTSTART;TZID=UTC:20260523T100000
DTEND;TZID=UTC:20260523T140000
DTSTAMP:20260419T115041
CREATED:20250320T144234Z
LAST-MODIFIED:20250413T092742Z
UID:14118-1779530400-1779544800@cyclingcambrils.com
SUMMARY:CIRCUITO DE EDUCACIÓN VIAL
DESCRIPTION:Actividad gratuita\, Actividad infantil\n Preparación sobre los valores y comportamiento de seguridad vial como apuesta por concienciar y preparar a los futuros usuarios de la red viaria. Inscripciones: in-situ.
URL:https://cyclingcambrils.com/evento/circuito-de-educacion-vial-3/
CATEGORIES:Sábado
ATTACH;FMTTYPE=image/jpeg:https://cyclingcambrils.com/wp-content/uploads/2025/03/IMG_1308-1.jpg
END:VEVENT
BEGIN:VEVENT
DTSTART;TZID=UTC:20260523T100000
DTEND;TZID=UTC:20260523T140000
DTSTAMP:20260419T115041
CREATED:20250320T144325Z
LAST-MODIFIED:20250320T144325Z
UID:14129-1779530400-1779544800@cyclingcambrils.com
SUMMARY:EXPO BIKE
DESCRIPTION:Zona con carpas de los expositores presentes en la feria con sus productos.
URL:https://cyclingcambrils.com/evento/expo-bike-2/
CATEGORIES:Sábado
END:VEVENT
BEGIN:VEVENT
DTSTART;TZID=UTC:20260523T103000
DTEND;TZID=UTC:20260523T103000
DTSTAMP:20260419T115041
CREATED:20250320T150109Z
LAST-MODIFIED:20250417T102845Z
UID:14147-1779532200-1779532200@cyclingcambrils.com
SUMMARY:INAUGURACIÓN CAMBRIBIKE
DESCRIPTION:Inauguración oficial de la feria por parte de las autoridades locales.
URL:https://cyclingcambrils.com/evento/inauguracion-cambribike/
CATEGORIES:Sábado
END:VEVENT
BEGIN:VEVENT
DTSTART;TZID=UTC:20260523T170000
DTEND;TZID=UTC:20260523T170000
DTSTAMP:20260419T115041
CREATED:20250320T144419Z
LAST-MODIFIED:20250505T080821Z
UID:14128-1779555600-1779555600@cyclingcambrils.com
SUMMARY:OPEN Kids Cambribike 0-14 años
DESCRIPTION:Actividad infantil\n Carrera con un circuito dentro del Parque del Pinaret adaptado a las bicicletas de los más pequeños. Es necesario llevar bicicleta y el casco.\n Toda la recaudación irá destinada a ANTIAN – Asociación de Cambrils para el apoyo a la investigación por la terapia génica del gen ADSL.  \nInscripciones
URL:https://cyclingcambrils.com/evento/open-kids-cambribike-0-12-anos/
CATEGORIES:Sábado
ATTACH;FMTTYPE=image/jpeg:https://cyclingcambrils.com/wp-content/uploads/2025/03/0C2A5875-copy-1.jpg
END:VEVENT
BEGIN:VEVENT
DTSTART;TZID=UTC:20260523T170000
DTEND;TZID=UTC:20260523T200000
DTSTAMP:20260419T115041
CREATED:20250320T143105Z
LAST-MODIFIED:20250320T143105Z
UID:14093-1779555600-1779566400@cyclingcambrils.com
SUMMARY:Circuito de educación vial
DESCRIPTION:Actividad gratuita\, Actividad infantil\n Preparación sobre los valores y comportamiento de seguridad vial como apuesta por concienciar y preparar a los futuros usuarios de la red viaria. Inscripciones: in-situ.
URL:https://cyclingcambrils.com/evento/circuito-de-educacion-vial-2/
CATEGORIES:Sábado
END:VEVENT
BEGIN:VEVENT
DTSTART;TZID=UTC:20260523T170000
DTEND;TZID=UTC:20260523T200000
DTSTAMP:20260419T115041
CREATED:20250320T143205Z
LAST-MODIFIED:20250320T143205Z
UID:14090-1779555600-1779566400@cyclingcambrils.com
SUMMARY:CIRCUITO DE HABILIDADES
DESCRIPTION:Actividad gratuita\, Actividad infantil\n En bicicleta de montaña para todas las edades: Giros\, obstáculos\, rampas\, zigzag\, troncos pequeños\, con la supervisión de un monitor experto en conducción de la escuela Bikepark Cambrils. Inscripciones: in-situ.
URL:https://cyclingcambrils.com/evento/circuito-de-habilidades/
CATEGORIES:Sábado
END:VEVENT
BEGIN:VEVENT
DTSTART;TZID=UTC:20260523T170000
DTEND;TZID=UTC:20260523T200000
DTSTAMP:20260419T115041
CREATED:20250504T215431Z
LAST-MODIFIED:20250504T215431Z
UID:14663-1779555600-1779566400@cyclingcambrils.com
SUMMARY:EXPO BIKE
DESCRIPTION:Zona con carpas de los expositores presentes en la feria con sus productos.
URL:https://cyclingcambrils.com/evento/expo-bike-4/
CATEGORIES:Sábado
ATTACH;FMTTYPE=image/jpeg:https://cyclingcambrils.com/wp-content/uploads/2025/03/0C2A5740-copy-1.jpg
END:VEVENT
BEGIN:VEVENT
DTSTART;TZID=UTC:20260523T170000
DTEND;TZID=UTC:20260523T200000
DTSTAMP:20260419T115041
CREATED:20260114T170439Z
LAST-MODIFIED:20260114T170439Z
UID:15224-1779555600-1779566400@cyclingcambrils.com
SUMMARY:CIRCUITO DE HABILIDADES CRONO
DESCRIPTION:Actividad gratuita\, Actividad infantil\n En bicicleta de montaña para todas las edades: Giros\, obstáculos\, rampas\, zigzag\, troncos pequeños\, con la supervisión de un monitor experto en conducción de la escuela Bikepark Cambrils. Inscripciones: in-situ.
URL:https://cyclingcambrils.com/evento/circuito-de-habilidades-crono/
CATEGORIES:Sábado
END:VEVENT
BEGIN:VEVENT
DTSTART;TZID=UTC:20260523T193000
DTEND;TZID=UTC:20260523T193000
DTSTAMP:20260419T115041
CREATED:20250320T143007Z
LAST-MODIFIED:20260415T175317Z
UID:14085-1779564600-1779564600@cyclingcambrils.com
SUMMARY:XC ELIMINATOR
DESCRIPTION:Carrera de sprint con bicicletas de BTT\, en un circuito corto de 250m con carreras eliminatorias muy emocionantes.
URL:https://cyclingcambrils.com/evento/xc-eliminator/
CATEGORIES:Sábado
END:VEVENT
END:VCALENDAR