BEGIN:VCALENDAR
VERSION:2.0
PRODID:-//Cambrils Cycling Paradise - ECPv6.15.20//NONSGML v1.0//EN
CALSCALE:GREGORIAN
METHOD:PUBLISH
X-ORIGINAL-URL:https://cyclingcambrils.com/fr/
X-WR-CALDESC:Évènements pour Cambrils Cycling Paradise
REFRESH-INTERVAL;VALUE=DURATION:PT1H
X-Robots-Tag:noindex
X-PUBLISHED-TTL:PT1H
BEGIN:VTIMEZONE
TZID:UTC
BEGIN:STANDARD
TZOFFSETFROM:+0000
TZOFFSETTO:+0000
TZNAME:UTC
DTSTART:20240101T000000
END:STANDARD
END:VTIMEZONE
BEGIN:VEVENT
DTSTART;TZID=UTC:20250510T110000
DTEND;TZID=UTC:20250510T120000
DTSTAMP:20260423T154520
CREATED:20250411T132648Z
LAST-MODIFIED:20250505T111504Z
UID:14344-1746874800-1746878400@cyclingcambrils.com
SUMMARY:Séance de cyclisme en salle avec Melcior Mauri
DESCRIPTION:Séance caritative de cyclisme en salle dirigée par l’ancien cycliste professionnel Melcior Mauri. \nInscriptions
URL:https://cyclingcambrils.com/fr/evento/seance-de-cyclisme-en-salle-avec-melcior-mauri/
CATEGORIES:Samedi
ATTACH;FMTTYPE=image/jpeg:https://cyclingcambrils.com/wp-content/uploads/2025/03/0C2A6575-copy.jpg
END:VEVENT
BEGIN:VEVENT
DTSTART;TZID=UTC:20250510T110000
DTEND;TZID=UTC:20250510T140000
DTSTAMP:20260423T154520
CREATED:20250502T114842Z
LAST-MODIFIED:20250502T114842Z
UID:14643-1746874800-1746885600@cyclingcambrils.com
SUMMARY:Atelier de peinture pour enfants
DESCRIPTION:Atelier de peinture pour les plus petits animé par l’artiste de Cambrils Nuri Mariné.
URL:https://cyclingcambrils.com/fr/evento/atelier-de-peinture-pour-enfants/
CATEGORIES:Samedi
END:VEVENT
BEGIN:VEVENT
DTSTART;TZID=UTC:20250510T120000
DTEND;TZID=UTC:20250510T140000
DTSTAMP:20260423T154520
CREATED:20250412T153146Z
LAST-MODIFIED:20250412T155544Z
UID:14392-1746878400-1746885600@cyclingcambrils.com
SUMMARY:ORANGEADE ÉLECTRONIQUE
DESCRIPTION:Performance caritative du DJ Cornelius accompagnée de jus d’orange naturel et de vermouth.
URL:https://cyclingcambrils.com/fr/evento/bronzage-electronique/
CATEGORIES:Samedi
END:VEVENT
BEGIN:VEVENT
DTSTART;TZID=UTC:20250510T190000
DTEND;TZID=UTC:20250510T190000
DTSTAMP:20260423T154520
CREATED:20250320T144501Z
LAST-MODIFIED:20250413T093034Z
UID:14144-1746903600-1746903600@cyclingcambrils.com
SUMMARY:VTT ENDURANCE
DESCRIPTION:Course d’endurance VTT par équipes.   \nInscriptions
URL:https://cyclingcambrils.com/fr/evento/vtt-endurance/
CATEGORIES:Samedi
ATTACH;FMTTYPE=image/jpeg:https://cyclingcambrils.com/wp-content/uploads/2025/03/0C2A6133-copy-1.jpg
END:VEVENT
BEGIN:VEVENT
DTSTART;TZID=UTC:20250510T190000
DTEND;TZID=UTC:20250510T200000
DTSTAMP:20260423T154520
CREATED:20250411T145412Z
LAST-MODIFIED:20250502T131325Z
UID:14386-1746903600-1746907200@cyclingcambrils.com
SUMMARY:Séance de cyclisme en salle avec Melcior Mauri
DESCRIPTION:Séance caritative de cyclisme en salle dirigée par l’ancien cycliste professionnel Melcior Mauri. \nInscriptions
URL:https://cyclingcambrils.com/fr/evento/seance-de-cyclisme-en-salle-avec-melcior-mauri-2/
CATEGORIES:Samedi
ATTACH;FMTTYPE=image/jpeg:https://cyclingcambrils.com/wp-content/uploads/2025/03/0C2A6575-copy.jpg
END:VEVENT
END:VCALENDAR